
BEGIN:VCALENDAR
VERSION:2.0
PRODID:-//eventon.com NONSGML v1.0//EN
CALSCALE:GREGORIAN
METHOD:PUBLISH
BEGIN:VEVENT
UID:69e5fd4ee442b
DTSTAMP:20260420T101750Z
DTSTART:20210831T180000Z
DTEND:20210831T073000Z
LOCATION:Marriot Vancouver Pinnacle Downtown 1128 W Hastings St
SUMMARY:First Nations Jurisdiction Over Child & Family Services Youth Engagement Session
DESCRIPTION:First Nations Jurisdiction Over Child & Family Services Youth E
 ngagement Session\nhttps://www.fnlc.ca/events/family-services-youth-engagem
 ent-session/
URL:https://www.fnlc.ca/events/family-services-youth-engagement-session/
END:VEVENT
END:VCALENDAR