
BEGIN:VCALENDAR
VERSION:2.0
PRODID:-//eventon.com NONSGML v1.0//EN
CALSCALE:GREGORIAN
METHOD:PUBLISH
BEGIN:VEVENT
UID:69ecbe1d96f2c
DTSTAMP:20260425T131405Z
DTSTART:20211122T180000Z
DTEND:20211122T200000Z
LOCATION:Zoom
SUMMARY:First Nations Child and Family Services Townhall Session
DESCRIPTION:BC First Nations Jurisdiction Over Child &amp; Family Services 
 REGISTER HERE The First Nations Leadership Council\,  in partnership with I
 ndigenous Services Canada and the Ministry of Children and Family Developme
 nt\,  is hosting quarterly virtual townhall sessions for First Nations on t
 opics and issues related to First Nations child and family[..]\nhttps://www
 .fnlc.ca/events/first-nations-child-and-family-services-townhall-session/
URL:https://www.fnlc.ca/events/first-nations-child-and-family-services-townhall-session/
END:VEVENT
END:VCALENDAR