
BEGIN:VCALENDAR
VERSION:2.0
PRODID:-//eventon.com NONSGML v1.0//EN
CALSCALE:GREGORIAN
METHOD:PUBLISH
BEGIN:VEVENT
UID:69e79f0735212
DTSTAMP:20260421T160007Z
DTSTART:20220308T170000Z
DTEND:20220308T204500Z
LOCATION:Zoom
SUMMARY:Symposium 3
DESCRIPTION:BC First Nations Jurisdiction Over Child &amp; Family Services 
 We are now in Phase Three of the First Nations Leadership Council Child and
  Family Wellbeing Engagement Sessions. Throughout Phases One and Two\,  we 
 have heard from participants that sharing best practices is a crucial step 
 in standing up First Nations[..]\nhttps://www.fnlc.ca/events/symposium-3/
URL:https://www.fnlc.ca/events/symposium-3/
END:VEVENT
END:VCALENDAR