
BEGIN:VCALENDAR
VERSION:2.0
PRODID:-//eventon.com NONSGML v1.0//EN
CALSCALE:GREGORIAN
METHOD:PUBLISH
BEGIN:VEVENT
UID:69e5e71f60da4
DTSTAMP:20260420T084311Z
DTSTART:20220623T160000Z
DTEND:20220623T193000Z
LOCATION:Vancouver Island Conference Centre 101 Gordon St\,  Nanaimo\,  BC V9R 5J8
SUMMARY:In person: Nanaimo - General Engagement Session
DESCRIPTION:Click here to register: https://forms.gle/u2G969em1HyTunCg6 For
  questions and more information please contact &#8211; events@alderhill.ca 
 &nbsp; Agenda for FNLC Child and Family Wellbeing Sessions: 8:00 a.m. &#821
 1; Room Open Continental breakfast and coffee provided 9:00 a.m. &#8211; We
 lcome\,  Housekeeping Opening prayer Opening Remarks from FNLC Review of wo
 rk done to date[..]\nhttps://www.fnlc.ca/events/in-person-nanaimo-general-e
 ngagement-session/
URL:https://www.fnlc.ca/events/in-person-nanaimo-general-engagement-session/
END:VEVENT
END:VCALENDAR